BEGIN:VCALENDAR
VERSION:2.0
PRODID:DPCALENDAR
CALSCALE:GREGORIAN
BEGIN:VTIMEZONE
TZID:Europe/Madrid
BEGIN:STANDARD
DTSTART:20251026T010000
TZOFFSETFROM:+0200
TZOFFSETTO:+0100
TZNAME:CET
END:STANDARD
BEGIN:DAYLIGHT
DTSTART:20260329T010000
TZOFFSETFROM:+0100
TZOFFSETTO:+0200
TZNAME:CEST
END:DAYLIGHT
BEGIN:STANDARD
DTSTART:20261025T010000
TZOFFSETFROM:+0200
TZOFFSETTO:+0100
TZNAME:CET
END:STANDARD
END:VTIMEZONE
X-WR-TIMEZONE:Europe/Madrid
BEGIN:VEVENT
DTSTART;TZID=Europe/Madrid:20160818T110000
DTEND;TZID=Europe/Madrid:20160818T133000
UID:318EA9A0-000D-43E4-8F34-C38E32DD0FDA
SUMMARY:Assaig General
DTSTAMP:20160811T095021Z
DESCRIPTION:Assaig General Banda Jove
X-ALT-DESC;FMTTYPE=text/html:<p>Assaig General Banda Jove</p>
LAST-MODIFIED:20160817T104904Z
X-ACCESS:1
X-HITS:1
X-URL:
X-COLOR:EABA28
END:VEVENT
BEGIN:VEVENT
DTSTART;TZID=Europe/Madrid:20161008T110000
DTEND;TZID=Europe/Madrid:20161008T130000
UID:F11F05E9-8F17-4F2A-8EE2-0E0863C0162B
SUMMARY:Assaig General Banda Jove
DTSTAMP:20161014T133951Z
DESCRIPTION:
X-ALT-DESC;FMTTYPE=text/html:
X-ACCESS:1
X-HITS:0
X-URL:
X-COLOR:EABA28
END:VEVENT
BEGIN:VEVENT
DTSTART;TZID=Europe/Madrid:20161022T100000
DTEND;TZID=Europe/Madrid:20161022T120000
UID:5B8987C9-1482-49F2-B1CF-0E14B192568E
SUMMARY:Assaig General Banda Jove
DTSTAMP:20161014T133951Z
DESCRIPTION:Assaig General Banda Jove
X-ALT-DESC;FMTTYPE=text/html:<p>Assaig General Banda Jove</p>
LAST-MODIFIED:20161020T152545Z
X-ACCESS:1
X-HITS:0
X-URL:
X-COLOR:EABA28
END:VEVENT
BEGIN:VEVENT
DTSTART;TZID=Europe/Madrid:20161102T213000
DTEND;TZID=Europe/Madrid:20161102T230000
UID:9523CAB6-F10F-4CAF-833C-1FC096E81062
SUMMARY:Assaig General 
DTSTAMP:20161014T133613Z
DESCRIPTION:Assaig General Banda AMM
X-ALT-DESC;FMTTYPE=text/html:<p>Assaig General Banda AMM</p>
LAST-MODIFIED:20161102T150704Z
X-ACCESS:1
X-HITS:37
X-URL:
X-COLOR:EABA28
END:VEVENT
BEGIN:VEVENT
DTSTART;TZID=Europe/Madrid:20161105T100000
DTEND;TZID=Europe/Madrid:20161105T113000
UID:3DC8EBE1-BCE9-4A50-A6D7-76D80777D227
SUMMARY:Assaig Parcial Metal/Percu Banda Jove 
DTSTAMP:20161014T133951Z
DESCRIPTION:Assaig Parcial Metal/Percu Banda Jove
X-ALT-DESC;FMTTYPE=text/html:<p>Assaig Parcial Metal/Percu Banda Jove</p>
LAST-MODIFIED:20161021T164956Z
X-ACCESS:1
X-HITS:2
X-URL:
X-COLOR:EABA28
END:VEVENT
BEGIN:VEVENT
DTSTART;TZID=Europe/Madrid:20161109T213000
DTEND;TZID=Europe/Madrid:20161109T230000
UID:E70212A1-0F27-4D7B-BB84-089A227297E7
SUMMARY:Assaig General Banda Jove
DTSTAMP:20161014T133613Z
DESCRIPTION:Assaig General Banda Jove AMM
X-ALT-DESC;FMTTYPE=text/html:<p>Assaig General Banda Jove AMM</p>
LAST-MODIFIED:20161107T073704Z
X-ACCESS:1
X-HITS:28
X-URL:
X-COLOR:EABA28
END:VEVENT
BEGIN:VEVENT
DTSTART;TZID=Europe/Madrid:20161119T110000
DTEND;TZID=Europe/Madrid:20161119T130000
UID:3B65CAA5-C050-4277-9D73-BFD964770CF4
SUMMARY:Assaig General Banda Jove 
DTSTAMP:20161014T133951Z
DESCRIPTION:
X-ALT-DESC;FMTTYPE=text/html:
LAST-MODIFIED:20161021T165013Z
X-ACCESS:1
X-HITS:37
X-URL:
X-COLOR:EABA28
END:VEVENT
BEGIN:VEVENT
DTSTART;TZID=Europe/Madrid:20161126T110000
DTEND;TZID=Europe/Madrid:20161126T130000
UID:B547A4DC-AB24-44BC-9D3D-A28A47FCD039
SUMMARY:Assaig General Banda Jove 
DTSTAMP:20161014T133951Z
DESCRIPTION:
X-ALT-DESC;FMTTYPE=text/html:
LAST-MODIFIED:20161021T165023Z
X-ACCESS:1
X-HITS:25
X-URL:
X-COLOR:EABA28
END:VEVENT
BEGIN:VEVENT
DTSTART;TZID=Europe/Madrid:20161203T110000
DTEND;TZID=Europe/Madrid:20161203T130000
UID:7B9F19BA-47E5-44D4-99F6-EB0BC03B5984
SUMMARY:Assaig General Banda Jove 
DTSTAMP:20161014T133951Z
DESCRIPTION:
X-ALT-DESC;FMTTYPE=text/html:
LAST-MODIFIED:20161114T122715Z
X-ACCESS:1
X-HITS:0
X-URL:
X-COLOR:EABA28
END:VEVENT
BEGIN:VEVENT
DTSTART;TZID=Europe/Madrid:20161210T110000
DTEND;TZID=Europe/Madrid:20161210T130000
UID:AA16C5FE-82FD-4DD3-9347-6F511208D0DC
SUMMARY:Assaig General Banda Jove
DTSTAMP:20161014T133951Z
DESCRIPTION:Assaig General Banda Jove
X-ALT-DESC;FMTTYPE=text/html:<p>Assaig General Banda Jove</p>
LAST-MODIFIED:20161114T122740Z
X-ACCESS:1
X-HITS:6
X-URL:
X-COLOR:EABA28
END:VEVENT
BEGIN:VEVENT
DTSTART;TZID=Europe/Madrid:20161217T110000
DTEND;TZID=Europe/Madrid:20161217T130000
UID:B6D1FE0A-D007-4983-A32E-EC76ABF3DDF5
SUMMARY:Assaig General Banda Jove
DTSTAMP:20161014T133951Z
DESCRIPTION:Assaig General Banda Jove
X-ALT-DESC;FMTTYPE=text/html:<p>Assaig General Banda Jove</p>
LAST-MODIFIED:20161114T122801Z
X-ACCESS:1
X-HITS:12
X-URL:
X-COLOR:EABA28
END:VEVENT
BEGIN:VEVENT
DTSTART;TZID=Europe/Madrid:20170114T110000
DTEND;TZID=Europe/Madrid:20170114T130000
UID:8572230C-FA8A-48E9-BE52-3E37DB0B5AFF
SUMMARY:Assaig General Banda Jove
DTSTAMP:20170113T095814Z
DESCRIPTION:Assaig General Banda Jove
X-ALT-DESC;FMTTYPE=text/html:<p>Assaig General Banda Jove</p>
X-ACCESS:1
X-HITS:2
X-URL:
X-COLOR:EABA28
END:VEVENT
BEGIN:VEVENT
DTSTART;TZID=Europe/Madrid:20170121T110000
DTEND;TZID=Europe/Madrid:20170121T130000
UID:655CF1E7-CED7-43DB-9D13-9CC186FA5E55
SUMMARY:Assaig General Banda Jove
DTSTAMP:20170113T095814Z
DESCRIPTION:Assaig General Banda Jove
X-ALT-DESC;FMTTYPE=text/html:<p>Assaig General Banda Jove</p>
LAST-MODIFIED:20170113T095838Z
X-ACCESS:1
X-HITS:0
X-URL:
X-COLOR:EABA28
END:VEVENT
BEGIN:VEVENT
DTSTART;TZID=Europe/Madrid:20170128T110000
DTEND;TZID=Europe/Madrid:20170128T130000
UID:38CE2447-30FE-4B30-ADC3-401CE6C28E1D
SUMMARY:Assaig General Banda Jove
DTSTAMP:20170113T095814Z
DESCRIPTION:Assaig General Banda Jove
X-ALT-DESC;FMTTYPE=text/html:<p>Assaig General Banda Jove</p>
LAST-MODIFIED:20170113T095854Z
X-ACCESS:1
X-HITS:1
X-URL:
X-COLOR:EABA28
END:VEVENT
BEGIN:VEVENT
DTSTART;TZID=Europe/Madrid:20170204T110000
DTEND;TZID=Europe/Madrid:20170204T130000
UID:84C1C512-9AB8-427B-8F5D-BFDB1195BB0F
SUMMARY:Assaig General Banda Jove
DTSTAMP:20170113T095814Z
DESCRIPTION:Assaig General Banda Jove
X-ALT-DESC;FMTTYPE=text/html:<p>Assaig General Banda Jove</p>
LAST-MODIFIED:20170113T095913Z
X-ACCESS:1
X-HITS:18
X-URL:
X-COLOR:EABA28
END:VEVENT
BEGIN:VEVENT
DTSTART;TZID=Europe/Madrid:20170208T213000
DTEND;TZID=Europe/Madrid:20170208T230000
UID:977047C9-66EB-4E23-923E-F4887E702C90
SUMMARY:Assaig General Banda Jove
DTSTAMP:20170113T095814Z
DESCRIPTION:Assaig General Banda Jove
X-ALT-DESC;FMTTYPE=text/html:<p>Assaig General Banda Jove</p>
LAST-MODIFIED:20170113T100057Z
X-ACCESS:1
X-HITS:20
X-URL:
X-COLOR:EABA28
END:VEVENT
BEGIN:VEVENT
DTSTART;TZID=Europe/Madrid:20170218T110000
DTEND;TZID=Europe/Madrid:20170218T130000
UID:A32A7BDC-05D5-46E7-B739-99CDDE26E32C
SUMMARY:Assaig General Banda Jove
DTSTAMP:20170113T095814Z
DESCRIPTION:Assaig General Banda Jove
X-ALT-DESC;FMTTYPE=text/html:<p>Assaig General Banda Jove</p>
LAST-MODIFIED:20170113T095929Z
X-ACCESS:1
X-HITS:26
X-URL:
X-COLOR:EABA28
END:VEVENT
BEGIN:VEVENT
DTSTART;TZID=Europe/Madrid:20170222T213000
DTEND;TZID=Europe/Madrid:20170222T230000
UID:A32B9FE4-41EE-46A3-9E8E-63DECB6A8DB6
SUMMARY:Assaig General Banda Jove
DTSTAMP:20170113T095814Z
DESCRIPTION:Assaig General Banda Jove
X-ALT-DESC;FMTTYPE=text/html:<p>Assaig General Banda Jove</p>
LAST-MODIFIED:20170113T100115Z
X-ACCESS:1
X-HITS:9
X-URL:
X-COLOR:EABA28
END:VEVENT
BEGIN:VEVENT
DTSTART;TZID=Europe/Madrid:20170304T110000
DTEND;TZID=Europe/Madrid:20170304T130000
UID:20673E1B-83C8-44EB-8E1A-1C87B68B7468
SUMMARY:Assaig General Banda Jove
DTSTAMP:20170113T095814Z
DESCRIPTION:Assaig General Banda Jove
X-ALT-DESC;FMTTYPE=text/html:<p>Assaig General Banda Jove</p>
LAST-MODIFIED:20170113T100150Z
X-ACCESS:1
X-HITS:12
X-URL:
X-COLOR:EABA28
END:VEVENT
BEGIN:VEVENT
DTSTART;TZID=Europe/Madrid:20170311T110000
DTEND;TZID=Europe/Madrid:20170311T130000
UID:72BB5D21-E8F8-40A8-B535-56A96CE9E50F
SUMMARY:Assaig General Banda Jove
DTSTAMP:20170113T095814Z
DESCRIPTION:Assaig General Banda Jove
X-ALT-DESC;FMTTYPE=text/html:<p>Assaig General Banda Jove</p>
LAST-MODIFIED:20170302T101424Z
X-ACCESS:1
X-HITS:10
X-URL:
X-COLOR:EABA28
END:VEVENT
BEGIN:VEVENT
DTSTART;TZID=Europe/Madrid:20170318T110000
DTEND;TZID=Europe/Madrid:20170318T130000
UID:453AB66C-C980-4C28-8566-2131AEF79BB0
SUMMARY:Assaig General Banda Jove
DTSTAMP:20170113T095814Z
DESCRIPTION:Assaig General Banda Jove
X-ALT-DESC;FMTTYPE=text/html:<p>Assaig General Banda Jove</p>
LAST-MODIFIED:20170302T101440Z
X-ACCESS:1
X-HITS:13
X-URL:
X-COLOR:EABA28
END:VEVENT
BEGIN:VEVENT
DTSTART;TZID=Europe/Madrid:20170325T110000
DTEND;TZID=Europe/Madrid:20170325T120000
UID:5A1375CA-64B8-4CFE-9A0D-3C10EE7C8F80
SUMMARY:Assaig Parcial 
DTSTAMP:20170113T095814Z
DESCRIPTION:Assaig Parcial Banda Jove. Metalls percussió i saxòfons
X-ALT-DESC;FMTTYPE=text/html:<p>Assaig Parcial Banda Jove. Metalls percussió i saxòfons</p>
LAST-MODIFIED:20170302T101531Z
X-ACCESS:1
X-HITS:38
X-URL:
X-COLOR:EABA28
END:VEVENT
BEGIN:VEVENT
DTSTART;TZID=Europe/Madrid:20170325T120000
DTEND;TZID=Europe/Madrid:20170325T130000
UID:C1A4A227-5135-47CC-AA38-8B0DCABECD63
SUMMARY:Assaig General Banda Jove 
DTSTAMP:20170113T095814Z
DESCRIPTION:Assaig General Banda Jove
X-ALT-DESC;FMTTYPE=text/html:<p>Assaig General Banda Jove</p>
LAST-MODIFIED:20170302T101601Z
X-ACCESS:1
X-HITS:17
X-URL:
X-COLOR:EABA28
END:VEVENT
BEGIN:VEVENT
DTSTART;TZID=Europe/Madrid:20170401T110000
DTEND;TZID=Europe/Madrid:20170401T120000
UID:468D0C2B-27DF-4674-BE3D-CF23A74DBC52
SUMMARY:Assaig Parcial 
DTSTAMP:20170113T095814Z
DESCRIPTION:Assaig Parcial Banda Jove. Clarinets, flautes i oboes
X-ALT-DESC;FMTTYPE=text/html:<p>Assaig Parcial Banda Jove. Clarinets, flautes i oboes</p>
LAST-MODIFIED:20170302T101800Z
X-ACCESS:1
X-HITS:51
X-URL:
X-COLOR:EABA28
END:VEVENT
BEGIN:VEVENT
DTSTART;TZID=Europe/Madrid:20170401T120000
DTEND;TZID=Europe/Madrid:20170401T130000
UID:1CA80CE5-7AA2-4540-BA20-CA4651375419
SUMMARY:Assaig General Banda Jove
DTSTAMP:20170113T095814Z
DESCRIPTION:Assaig General Banda Jove
X-ALT-DESC;FMTTYPE=text/html:<p>Assaig General Banda Jove</p>
LAST-MODIFIED:20170302T101704Z
X-ACCESS:1
X-HITS:31
X-URL:
X-COLOR:EABA28
END:VEVENT
BEGIN:VEVENT
DTSTART;TZID=Europe/Madrid:20170408T110000
DTEND;TZID=Europe/Madrid:20170408T130000
UID:CA8613B8-7F2C-4D53-8345-D62196CD4E42
SUMMARY:Assaig Parcial Metalls
DTSTAMP:20170113T095814Z
DESCRIPTION:Assaig Parcial Banda Jove. Metalls
X-ALT-DESC;FMTTYPE=text/html:<p>Assaig Parcial Banda Jove. Metalls</p>
LAST-MODIFIED:20170405T080943Z
X-ACCESS:1
X-HITS:58
X-URL:
X-COLOR:EABA28
END:VEVENT
BEGIN:VEVENT
DTSTART;TZID=Europe/Madrid:20170429T110000
DTEND;TZID=Europe/Madrid:20170429T120000
UID:D2657587-D340-402E-87C9-93A0FCBB95C4
SUMMARY:Assaig General Banda Jove
DTSTAMP:20170113T095814Z
DESCRIPTION:Assaig General Banda Jove
X-ALT-DESC;FMTTYPE=text/html:<p>Assaig General Banda Jove</p>
LAST-MODIFIED:20170427T074628Z
X-ACCESS:1
X-HITS:24
X-URL:
X-COLOR:EABA28
END:VEVENT
BEGIN:VEVENT
DTSTART;TZID=Europe/Madrid:20170513T110000
DTEND;TZID=Europe/Madrid:20170513T130000
UID:1C9B4DC5-DA1D-45ED-8402-D29A2BF1F2A0
SUMMARY:Assaig General Banda Jove
DTSTAMP:20170427T074725Z
DESCRIPTION:
X-ALT-DESC;FMTTYPE=text/html:
LAST-MODIFIED:20170427T074807Z
X-ACCESS:1
X-HITS:22
X-URL:
X-COLOR:EABA28
END:VEVENT
BEGIN:VEVENT
DTSTART;TZID=Europe/Madrid:20170520T110000
DTEND;TZID=Europe/Madrid:20170520T130000
UID:F8EBDDC2-3D07-42E6-A153-81DDEA722143
SUMMARY:Assaig General Banda Jove
DTSTAMP:20170427T074725Z
DESCRIPTION:
X-ALT-DESC;FMTTYPE=text/html:
LAST-MODIFIED:20170427T074743Z
X-ACCESS:1
X-HITS:58
X-URL:
X-COLOR:EABA28
END:VEVENT
BEGIN:VEVENT
DTSTART;TZID=Europe/Madrid:20170527T110000
DTEND;TZID=Europe/Madrid:20170527T130000
UID:2687FF98-1EA5-46C7-8A28-57618EA8889D
SUMMARY:Assaig General Banda Jove
DTSTAMP:20170427T074725Z
DESCRIPTION:
X-ALT-DESC;FMTTYPE=text/html:
LAST-MODIFIED:20170427T074755Z
X-ACCESS:1
X-HITS:25
X-URL:
X-COLOR:EABA28
END:VEVENT
BEGIN:VEVENT
DTSTART;TZID=Europe/Madrid:20170617T110000
DTEND;TZID=Europe/Madrid:20170617T130000
UID:270E579F-645E-4B9E-B9CC-2EA4E87E7E4B
SUMMARY:Assaig General Banda Jove
DTSTAMP:20170617T084832Z
DESCRIPTION:
X-ALT-DESC;FMTTYPE=text/html:
X-ACCESS:1
X-HITS:14
X-URL:
X-COLOR:EABA28
END:VEVENT
BEGIN:VEVENT
DTSTART;TZID=Europe/Madrid:20170906T203000
DTEND;TZID=Europe/Madrid:20170906T223000
UID:A7C349F9-3EFB-4073-B7B0-06312E31BB38
SUMMARY:Assaig Banda Jove
DTSTAMP:20170906T152522Z
DESCRIPTION:
X-ALT-DESC;FMTTYPE=text/html:
X-ACCESS:1
X-HITS:19
X-URL:
X-COLOR:EABA28
END:VEVENT
BEGIN:VEVENT
DTSTART;TZID=Europe/Madrid:20170916T110000
DTEND;TZID=Europe/Madrid:20170916T130000
UID:F726D651-2FE6-4538-BBD4-B6B60D207D27
SUMMARY:Assaig Banda Jove
DTSTAMP:20170906T152522Z
DESCRIPTION:
X-ALT-DESC;FMTTYPE=text/html:
LAST-MODIFIED:20170906T152551Z
X-ACCESS:1
X-HITS:17
X-URL:
X-COLOR:EABA28
END:VEVENT
BEGIN:VEVENT
DTSTART;TZID=Europe/Madrid:20170920T210000
DTEND;TZID=Europe/Madrid:20170920T223000
UID:73661F78-A58F-45C7-93FE-982FE1B9F72A
SUMMARY:Assaig Parcial Banda Jove
DTSTAMP:20170906T152522Z
DESCRIPTION:Assaig Parcial de:\N\NTrombons,Trompes,Tubes\NClarinets solistes, Barítono\NTenors, Bombardino, Cello, Percussió\N
X-ALT-DESC;FMTTYPE=text/html:<p>Assaig Parcial de:</p><ul><li>Trombons,Trompes,Tubes</li><li>Clarinets solistes, Barítono</li><li>Tenors, Bombardino, Cello, Percussió</li></ul>
LAST-MODIFIED:20170916T081438Z
X-ACCESS:1
X-HITS:61
X-URL:
X-COLOR:EABA28
END:VEVENT
BEGIN:VEVENT
DTSTART;TZID=Europe/Madrid:20170923T110000
DTEND;TZID=Europe/Madrid:20170923T130000
UID:202450EB-57C2-4E61-8285-50697DC9B39B
SUMMARY:Assaig Banda Jove
DTSTAMP:20170906T152522Z
DESCRIPTION:
X-ALT-DESC;FMTTYPE=text/html:
LAST-MODIFIED:20170916T080745Z
X-ACCESS:1
X-HITS:13
X-URL:
X-COLOR:EABA28
END:VEVENT
BEGIN:VEVENT
DTSTART;TZID=Europe/Madrid:20170927T210000
DTEND;TZID=Europe/Madrid:20170927T223000
UID:84583E33-5586-46A3-9072-DC818525CCB9
SUMMARY:Assaig Banda Jove
DTSTAMP:20170906T152522Z
DESCRIPTION:
X-ALT-DESC;FMTTYPE=text/html:
LAST-MODIFIED:20170916T081114Z
X-ACCESS:1
X-HITS:62
X-URL:
X-COLOR:EABA28
END:VEVENT
BEGIN:VEVENT
DTSTART;TZID=Europe/Madrid:20170930T110000
DTEND;TZID=Europe/Madrid:20170930T130000
UID:DD25A001-A3EA-404F-A685-C8DF28016327
SUMMARY:Assaig Banda Jove
DTSTAMP:20170906T152522Z
DESCRIPTION:
X-ALT-DESC;FMTTYPE=text/html:
LAST-MODIFIED:20170916T080812Z
X-ACCESS:1
X-HITS:27
X-URL:
X-COLOR:EABA28
END:VEVENT
BEGIN:VEVENT
DTSTART;TZID=Europe/Madrid:20171021T110000
DTEND;TZID=Europe/Madrid:20171021T130000
UID:AB5D000E-8CF9-42B8-AEBF-FBC0A059A55B
SUMMARY:Assaig General Banda Jove
DTSTAMP:20171020T120310Z
DESCRIPTION:
X-ALT-DESC;FMTTYPE=text/html:
X-ACCESS:1
X-HITS:3
X-URL:
X-COLOR:EABA28
END:VEVENT
BEGIN:VEVENT
DTSTART;TZID=Europe/Madrid:20171104T110000
DTEND;TZID=Europe/Madrid:20171104T130000
UID:33D05190-FF67-4ED0-978C-E9736B019790
SUMMARY:Assaig General Banda Jove
DTSTAMP:20171020T120310Z
DESCRIPTION:
X-ALT-DESC;FMTTYPE=text/html:
LAST-MODIFIED:20171020T120554Z
X-ACCESS:1
X-HITS:27
X-URL:
X-COLOR:EABA28
END:VEVENT
BEGIN:VEVENT
DTSTART;TZID=Europe/Madrid:20171116T210000
DTEND;TZID=Europe/Madrid:20171116T230000
UID:CB596169-0A64-4772-A03D-53BF095DD027
SUMMARY:Assaig General Banda Jove
DTSTAMP:20171113T154645Z
DESCRIPTION:
X-ALT-DESC;FMTTYPE=text/html:
X-ACCESS:1
X-HITS:22
X-URL:
X-COLOR:EABA28
END:VEVENT
BEGIN:VEVENT
DTSTART;TZID=Europe/Madrid:20171202T110000
DTEND;TZID=Europe/Madrid:20171202T130000
UID:74593682-2693-46B0-B645-3FE3AA174E94
SUMMARY:Assaig General Banda Jove
DTSTAMP:20171130T062443Z
DESCRIPTION:
X-ALT-DESC;FMTTYPE=text/html:
X-ACCESS:1
X-HITS:51
X-URL:
X-COLOR:EABA28
END:VEVENT
BEGIN:VEVENT
DTSTART;TZID=Europe/Madrid:20171209T110000
DTEND;TZID=Europe/Madrid:20171209T130000
UID:B977D7DA-CCED-40D1-9B0A-F256D96C88AB
SUMMARY:Assaig General Banda Jove
DTSTAMP:20171130T062529Z
DESCRIPTION:
X-ALT-DESC;FMTTYPE=text/html:
X-ACCESS:1
X-HITS:46
X-URL:
X-COLOR:EABA28
END:VEVENT
BEGIN:VEVENT
DTSTART;TZID=Europe/Madrid:20171216T110000
DTEND;TZID=Europe/Madrid:20171216T130000
UID:2A92B8B1-7443-461A-A54B-B051E5B102FB
SUMMARY:Assaig General Banda Jove 
DTSTAMP:20171210T141708Z
DESCRIPTION:
X-ALT-DESC;FMTTYPE=text/html:
X-ACCESS:1
X-HITS:81
X-URL:
X-COLOR:EABA28
END:VEVENT
BEGIN:VEVENT
DTSTART;TZID=Europe/Madrid:20180113T110000
DTEND;TZID=Europe/Madrid:20180113T130000
UID:A9303532-D6D7-4514-BFBA-E828B6EB7615
SUMMARY:Assaig General Banda Jove 
DTSTAMP:20180111T063823Z
DESCRIPTION:
X-ALT-DESC;FMTTYPE=text/html:
X-ACCESS:1
X-HITS:81
X-URL:
X-COLOR:EABA28
END:VEVENT
BEGIN:VEVENT
DTSTART;TZID=Europe/Madrid:20180120T110000
DTEND;TZID=Europe/Madrid:20180120T130000
UID:2C2FBF27-8FED-472A-A082-AC67D2DD2A86
SUMMARY:Assaig General banda Jove 
DTSTAMP:20180111T063910Z
DESCRIPTION:
X-ALT-DESC;FMTTYPE=text/html:
X-ACCESS:1
X-HITS:31
X-URL:
X-COLOR:EABA28
END:VEVENT
BEGIN:VEVENT
DTSTART;TZID=Europe/Madrid:20180127T110000
DTEND;TZID=Europe/Madrid:20180127T130000
UID:9568A5CD-C0C8-42B5-A7F6-20CD6DF052B5
SUMMARY:Assaig General banda Jove 
DTSTAMP:20180111T063955Z
DESCRIPTION:
X-ALT-DESC;FMTTYPE=text/html:
X-ACCESS:1
X-HITS:37
X-URL:
X-COLOR:EABA28
END:VEVENT
BEGIN:VEVENT
DTSTART;TZID=Europe/Madrid:20180127T110000
DTEND;TZID=Europe/Madrid:20180127T130000
UID:000561CE-9137-4F16-A194-6FB4EBF71DF8
SUMMARY:Assaig Banda Jove
DTSTAMP:20180129T130201Z
DESCRIPTION:
X-ALT-DESC;FMTTYPE=text/html:
X-ACCESS:1
X-HITS:0
X-URL:
X-COLOR:EABA28
END:VEVENT
BEGIN:VEVENT
DTSTART;TZID=Europe/Madrid:20180203T110000
DTEND;TZID=Europe/Madrid:20180203T130000
UID:1836A013-34A6-420A-BCA2-5AF5A8167C9C
SUMMARY:Assaig Banda Jove
DTSTAMP:20180129T130043Z
DESCRIPTION:
X-ALT-DESC;FMTTYPE=text/html:
X-ACCESS:1
X-HITS:14
X-URL:
X-COLOR:EABA28
END:VEVENT
BEGIN:VEVENT
DTSTART;VALUE=DATE:20180217
DTEND;VALUE=DATE:20180218
UID:DADFBC9C-1E00-4263-89CF-9805F4C4FA40
SUMMARY:Assaig Banda Jove
DTSTAMP:20180129T130138Z
DESCRIPTION:El ensayo general de la Banda Jove tendrá comienzo a las 10h del sabado 17 y finalizará a las 11:45h.
X-ALT-DESC;FMTTYPE=text/html:<p>El ensayo general de la Banda Jove tendrá comienzo a las 10h del sabado 17 y finalizará a las 11:45h.</p>
LAST-MODIFIED:20180214T111255Z
X-ACCESS:1
X-HITS:21
X-URL:
X-COLOR:EABA28
END:VEVENT
BEGIN:VEVENT
DTSTART;TZID=Europe/Madrid:20180224T110000
DTEND;TZID=Europe/Madrid:20180224T130000
UID:A5BD22DC-8EC0-4376-9781-B99263C73D9E
SUMMARY:Assaig Banda Jove
DTSTAMP:20180129T130351Z
DESCRIPTION:
X-ALT-DESC;FMTTYPE=text/html:
X-ACCESS:1
X-HITS:8
X-URL:
X-COLOR:EABA28
END:VEVENT
BEGIN:VEVENT
DTSTART;TZID=Europe/Madrid:20180303T093000
DTEND;TZID=Europe/Madrid:20180303T110000
UID:88A62586-12A4-4809-99F8-DB957F57267B
SUMMARY:Assaig Banda Jove General
DTSTAMP:20180129T130233Z
DESCRIPTION:
X-ALT-DESC;FMTTYPE=text/html:
LAST-MODIFIED:20180302T071451Z
X-ACCESS:1
X-HITS:31
X-URL:
X-COLOR:EABA28
END:VEVENT
BEGIN:VEVENT
DTSTART;TZID=Europe/Madrid:20180310T100000
DTEND;TZID=Europe/Madrid:20180310T110000
UID:FEC3F98A-743E-4BAF-8272-E1FCD3062C21
SUMMARY:Assaig Banda Jove: parcial fusta. 
DTSTAMP:20180309T111728Z
DESCRIPTION:Assaig parcial de fusta de la Banda Jove de la AMM.
X-ALT-DESC;FMTTYPE=text/html:<p>Assaig parcial de fusta de la Banda Jove de la AMM.</p>
LAST-MODIFIED:20180309T111731Z
X-ACCESS:1
X-HITS:25
X-URL:
X-COLOR:EABA28
END:VEVENT
BEGIN:VEVENT
DTSTART;TZID=Europe/Madrid:20180310T110000
DTEND;TZID=Europe/Madrid:20180310T130000
UID:5893466E-6A05-4598-B524-53793F3BA46B
SUMMARY:Assaig General Banda Jove
DTSTAMP:20180309T111801Z
DESCRIPTION:
X-ALT-DESC;FMTTYPE=text/html:
X-ACCESS:1
X-HITS:18
X-URL:
X-COLOR:EABA28
END:VEVENT
BEGIN:VEVENT
DTSTART;TZID=Europe/Madrid:20180317T110000
DTEND;TZID=Europe/Madrid:20180317T130000
UID:BC2806C1-9C23-4A5B-A138-D88AEB752EA7
SUMMARY:Assaig General Banda Jove
DTSTAMP:20180309T111830Z
DESCRIPTION:
X-ALT-DESC;FMTTYPE=text/html:
LAST-MODIFIED:20180314T153418Z
X-ACCESS:1
X-HITS:193
X-URL:
X-COLOR:EABA28
END:VEVENT
BEGIN:VEVENT
DTSTART;TZID=Europe/Madrid:20180324T110000
DTEND;TZID=Europe/Madrid:20180324T130000
UID:A4673BA5-0C55-4A61-8D21-E8AE5D2B072A
SUMMARY:Assaig general banda jove 
DTSTAMP:20180324T082931Z
DESCRIPTION:
X-ALT-DESC;FMTTYPE=text/html:
X-ACCESS:1
X-HITS:11
X-URL:
X-COLOR:EABA28
END:VEVENT
BEGIN:VEVENT
DTSTART;TZID=Europe/Madrid:20180526T110000
DTEND;TZID=Europe/Madrid:20180526T130000
UID:691CA9F5-7F82-482B-983C-87697B138F4E
SUMMARY:Assaig general Banda Jove
DTSTAMP:20180517T173350Z
DESCRIPTION:
X-ALT-DESC;FMTTYPE=text/html:
X-ACCESS:1
X-HITS:7
X-URL:
X-COLOR:EABA28
END:VEVENT
BEGIN:VEVENT
DTSTART;TZID=Europe/Madrid:20180602T110000
DTEND;TZID=Europe/Madrid:20180602T130000
UID:93E7E42B-A54F-4E02-849B-C0ED34D681BC
SUMMARY:Assaig general Banda Jove
DTSTAMP:20180517T173420Z
DESCRIPTION:
X-ALT-DESC;FMTTYPE=text/html:
X-ACCESS:1
X-HITS:77
X-URL:
X-COLOR:EABA28
END:VEVENT
BEGIN:VEVENT
DTSTART;TZID=Europe/Madrid:20180609T110000
DTEND;TZID=Europe/Madrid:20180609T130000
UID:E379D284-83D4-4489-8695-BB94DF5E091F
SUMMARY:Assaig General Banda Jove
DTSTAMP:20180607T072614Z
DESCRIPTION:Assaig General Banda Jove
X-ALT-DESC;FMTTYPE=text/html:<p>Assaig General Banda Jove</p>
LAST-MODIFIED:20180607T072731Z
X-ACCESS:1
X-HITS:17
X-URL:
X-COLOR:EABA28
END:VEVENT
BEGIN:VEVENT
DTSTART;TZID=Europe/Madrid:20180616T100000
DTEND;TZID=Europe/Madrid:20180616T110000
UID:5AF9AE55-BECF-49A0-826C-E1979DFE627E
SUMMARY:Assaig Parcial Percussió Banda Jove
DTSTAMP:20180607T072614Z
DESCRIPTION:Assaig Parcial Percussió Banda Jove
X-ALT-DESC;FMTTYPE=text/html:<p>Assaig Parcial Percussió Banda Jove</p>
LAST-MODIFIED:20180607T072751Z
X-ACCESS:1
X-HITS:7
X-URL:
X-COLOR:EABA28
END:VEVENT
BEGIN:VEVENT
DTSTART;TZID=Europe/Madrid:20180616T110000
DTEND;TZID=Europe/Madrid:20180616T130000
UID:23408890-02F5-4C7A-9D2C-6639BF54FCCC
SUMMARY:Assaig General Banda Jove
DTSTAMP:20180607T072614Z
DESCRIPTION:Assaig General Banda Jove
X-ALT-DESC;FMTTYPE=text/html:<p>Assaig General Banda Jove</p>
LAST-MODIFIED:20180607T072804Z
X-ACCESS:1
X-HITS:12
X-URL:
X-COLOR:EABA28
END:VEVENT
BEGIN:VEVENT
DTSTART;TZID=Europe/Madrid:20180623T110000
DTEND;TZID=Europe/Madrid:20180623T130000
UID:80E97FB5-1475-4EA7-87DF-5CC2FB4C4AC3
SUMMARY:Assaig General Banda Jove
DTSTAMP:20180616T181321Z
DESCRIPTION:
X-ALT-DESC;FMTTYPE=text/html:
X-ACCESS:1
X-HITS:2
X-URL:
X-COLOR:EABA28
END:VEVENT
BEGIN:VEVENT
DTSTART;TZID=Europe/Madrid:20180707T110000
DTEND;TZID=Europe/Madrid:20180707T130000
UID:7D84DF2C-D0F2-48FA-B733-A93B40699A66
SUMMARY:Assaig General Banda Jove
DTSTAMP:20180705T171331Z
DESCRIPTION:Assaig General Banda Jove
X-ALT-DESC;FMTTYPE=text/html:<p>Assaig General Banda Jove</p>
X-ACCESS:1
X-HITS:16
X-URL:
X-COLOR:EABA28
END:VEVENT
BEGIN:VEVENT
DTSTART;TZID=Europe/Madrid:20180908T110000
DTEND;TZID=Europe/Madrid:20180908T130000
UID:74616ED1-7B6A-4B87-BBEF-AC05A9119CDB
SUMMARY:Assaig banda Jove
DTSTAMP:20180906T193315Z
DESCRIPTION:
X-ALT-DESC;FMTTYPE=text/html:
X-ACCESS:1
X-HITS:9
X-URL:
X-COLOR:EABA28
END:VEVENT
BEGIN:VEVENT
DTSTART;TZID=Europe/Madrid:20180926T204500
DTEND;TZID=Europe/Madrid:20180926T230000
UID:41307F52-5F9B-462E-A4BA-572FD0CE1650
SUMMARY:Assaig General Banda Jove
DTSTAMP:20180925T110733Z
DESCRIPTION:
X-ALT-DESC;FMTTYPE=text/html:
X-ACCESS:1
X-HITS:4
X-URL:
X-COLOR:EABA28
END:VEVENT
BEGIN:VEVENT
DTSTART;TZID=Europe/Madrid:20180929T110000
DTEND;TZID=Europe/Madrid:20180929T130000
UID:42D4B2D8-A579-4235-AD78-AA0798D01496
SUMMARY:Assaig General Banda Jove
DTSTAMP:20180925T110802Z
DESCRIPTION:
X-ALT-DESC;FMTTYPE=text/html:
X-ACCESS:1
X-HITS:3
X-URL:
X-COLOR:EABA28
END:VEVENT
BEGIN:VEVENT
DTSTART;TZID=Europe/Madrid:20190215T220000
DTEND;TZID=Europe/Madrid:20190215T235900
UID:237D8681-9ACB-4A52-977A-A2ABD4AB5CB8
SUMMARY:Assaig parcial METALL i PERCU banda jove
DTSTAMP:20190124T203841Z
DESCRIPTION:
X-ALT-DESC;FMTTYPE=text/html:
LAST-MODIFIED:20190214T114200Z
X-ACCESS:1
X-HITS:294
X-URL:
X-COLOR:FFF109
END:VEVENT
BEGIN:VEVENT
DTSTART;TZID=Europe/Madrid:20190309T110000
DTEND;TZID=Europe/Madrid:20190309T130000
UID:DF8B9C77-9A78-4838-AC38-1F5E2022BDC0
SUMMARY:Assaig Banda Jove
DTSTAMP:20190308T084119Z
DESCRIPTION:Assaig General Banda Jove
X-ALT-DESC;FMTTYPE=text/html:<p>Assaig General Banda Jove</p>
X-ACCESS:1
X-HITS:205
X-URL:
X-COLOR:EABA28
END:VEVENT
BEGIN:VEVENT
DTSTART;TZID=Europe/Madrid:20190316T110000
DTEND;TZID=Europe/Madrid:20190316T130000
UID:9A12AF40-6776-4682-B262-4E636894056E
SUMMARY:Assaig Banda Jove
DTSTAMP:20190308T084119Z
DESCRIPTION:Assaig General Banda Jove
X-ALT-DESC;FMTTYPE=text/html:<p>Assaig General Banda Jove</p>
LAST-MODIFIED:20190308T084138Z
X-ACCESS:1
X-HITS:355
X-URL:
X-COLOR:EABA28
END:VEVENT
BEGIN:VEVENT
DTSTART;TZID=Europe/Madrid:20190330T110000
DTEND;TZID=Europe/Madrid:20190330T130000
UID:23F95E9C-D610-4B52-A434-6E43CD116054
SUMMARY:Assaig Banda Jove
DTSTAMP:20190308T084119Z
DESCRIPTION:Assaig General Banda Jove
X-ALT-DESC;FMTTYPE=text/html:<p>Assaig General Banda Jove</p>
LAST-MODIFIED:20190308T084153Z
X-ACCESS:1
X-HITS:350
X-URL:
X-COLOR:EABA28
END:VEVENT
BEGIN:VEVENT
DTSTART;TZID=Europe/Madrid:20190411T210000
DTEND;TZID=Europe/Madrid:20190411T230000
UID:CFE24241-BEE4-4350-AF63-DC5DBE50B436
SUMMARY:Assaig Banda Jove
DTSTAMP:20190409T161546Z
DESCRIPTION:
X-ALT-DESC;FMTTYPE=text/html:
X-ACCESS:1
X-HITS:164
X-URL:
X-COLOR:EABA28
END:VEVENT
BEGIN:VEVENT
DTSTART;TZID=Europe/Madrid:20190511T110000
DTEND;TZID=Europe/Madrid:20190511T130000
UID:377B17E7-6E3F-48EC-8196-68B756CF1848
SUMMARY:Assaig General Banda Jove
DTSTAMP:20190506T102902Z
DESCRIPTION:Assaig General Banda Jove
X-ALT-DESC;FMTTYPE=text/html:<p>Assaig General Banda Jove</p>
X-ACCESS:1
X-HITS:44
X-URL:
X-COLOR:EABA28
END:VEVENT
BEGIN:VEVENT
DTSTART;TZID=Europe/Madrid:20190518T110000
DTEND;TZID=Europe/Madrid:20190518T120000
UID:B87BCCAD-B2FE-4742-9144-B17DCA5898BC
SUMMARY:Parcial Banda Jove Madera
DTSTAMP:20190506T113116Z
DESCRIPTION:
X-ALT-DESC;FMTTYPE=text/html:
LAST-MODIFIED:20190506T113305Z
X-ACCESS:1
X-HITS:251
X-URL:
X-COLOR:EABA28
END:VEVENT
BEGIN:VEVENT
DTSTART;TZID=Europe/Madrid:20190530T210000
DTEND;TZID=Europe/Madrid:20190530T223000
UID:720EB300-5B7B-4725-8477-A51A2BD7749D
SUMMARY:Assaig Banda Jove GENERAL
DTSTAMP:20190528T191033Z
DESCRIPTION:Assaig GENERAL.\NHora d'acabada: Entre 22:30 i 23:00
X-ALT-DESC;FMTTYPE=text/html:<p>Assaig GENERAL.</p><p>Hora d'acabada: Entre 22:30 i 23:00</p>
X-ACCESS:1
X-HITS:149
X-URL:
X-COLOR:EABA28
END:VEVENT
BEGIN:VEVENT
DTSTART;TZID=Europe/Madrid:20190612T203000
DTEND;TZID=Europe/Madrid:20190612T220000
UID:B73AB8BB-2058-4458-910F-4CA4C7F39E17
SUMMARY:Assaig Banda Jove GENERAL
DTSTAMP:20190603T150630Z
DESCRIPTION:Assaig General Banda Jove
X-ALT-DESC;FMTTYPE=text/html:<p>Assaig General Banda Jove</p>
LAST-MODIFIED:20190611T115655Z
X-ACCESS:1
X-HITS:323
X-URL:
X-COLOR:EABA28
END:VEVENT
BEGIN:VEVENT
DTSTART;TZID=Europe/Madrid:20190613T200000
DTEND;TZID=Europe/Madrid:20190613T213000
UID:A55F0D4D-EA33-4B96-A7EA-7A086A7C0BAD
SUMMARY:Assaig Banda Jove GENERAL
DTSTAMP:20190603T150630Z
DESCRIPTION:Assaig General Banda Jove
X-ALT-DESC;FMTTYPE=text/html:<p>Assaig General Banda Jove</p>
LAST-MODIFIED:20190611T115715Z
X-ACCESS:1
X-HITS:190
X-URL:
X-COLOR:EABA28
END:VEVENT
BEGIN:VEVENT
DTSTART;TZID=Europe/Madrid:20190620T200000
DTEND;TZID=Europe/Madrid:20190620T213000
UID:A768FCAC-A530-43A8-9F3A-C7ECE638F1FA
SUMMARY:Assaig Banda Jove GENERAL
DTSTAMP:20190613T201112Z
DESCRIPTION:Assaig Banda Jove GENERAL
X-ALT-DESC;FMTTYPE=text/html:<p>Assaig Banda Jove GENERAL</p>
X-ACCESS:1
X-HITS:202
X-URL:
X-COLOR:EABA28
END:VEVENT
BEGIN:VEVENT
DTSTART;TZID=Europe/Madrid:20190621T200000
DTEND;TZID=Europe/Madrid:20190621T213000
UID:96803AAB-FF8A-43F3-A877-2AC30826A8C0
SUMMARY:Assaig Banda Jove GENERAL
DTSTAMP:20190613T201112Z
DESCRIPTION:Assaig Banda Jove GENERAL
X-ALT-DESC;FMTTYPE=text/html:<p>Assaig Banda Jove GENERAL</p>
LAST-MODIFIED:20190613T201127Z
X-ACCESS:1
X-HITS:38
X-URL:
X-COLOR:EABA28
END:VEVENT
BEGIN:VEVENT
DTSTART;TZID=Europe/Madrid:20190913T190000
DTEND;TZID=Europe/Madrid:20190913T210000
UID:2B562C61-3A77-441E-B453-A1113C525901
SUMMARY:Assaig general Banda Jove
DTSTAMP:20190913T081458Z
DESCRIPTION:
X-ALT-DESC;FMTTYPE=text/html:
X-ACCESS:1
X-HITS:16
X-URL:
X-COLOR:EABA28
END:VEVENT
BEGIN:VEVENT
DTSTART;TZID=Europe/Madrid:20190920T190000
DTEND;TZID=Europe/Madrid:20190920T203000
UID:074DF529-D59F-4BEF-8623-F425C82EB59B
SUMMARY:Assaig Banda Jove
DTSTAMP:20190916T104909Z
DESCRIPTION:
X-ALT-DESC;FMTTYPE=text/html:
LAST-MODIFIED:20190916T105118Z
X-ACCESS:1
X-HITS:124
X-URL:
X-COLOR:EABA28
END:VEVENT
BEGIN:VEVENT
DTSTART;TZID=Europe/Madrid:20190927T190000
DTEND;TZID=Europe/Madrid:20190927T210000
UID:8DBDE1F4-2272-462C-A578-788AC2C58CA4
SUMMARY:Assaig banda jove
DTSTAMP:20190916T104633Z
DESCRIPTION:
X-ALT-DESC;FMTTYPE=text/html:
X-ACCESS:1
X-HITS:347
X-URL:
X-COLOR:EABA28
END:VEVENT
BEGIN:VEVENT
DTSTART;TZID=Europe/Madrid:20190927T190000
DTEND;TZID=Europe/Madrid:20190927T203000
UID:210052C1-9BFB-472E-AFC0-7F9DC313F586
SUMMARY:Assaig Banda Jove
DTSTAMP:20190916T105133Z
DESCRIPTION:
X-ALT-DESC;FMTTYPE=text/html:
X-ACCESS:1
X-HITS:172
X-URL:
X-COLOR:EABA28
END:VEVENT
BEGIN:VEVENT
DTSTART;TZID=Europe/Madrid:20191018T190000
DTEND;TZID=Europe/Madrid:20191018T203000
UID:290749A0-9AD6-4AD1-8B89-B9019D47F301
SUMMARY:Assaig Banda Jove
DTSTAMP:20190916T105219Z
DESCRIPTION:
X-ALT-DESC;FMTTYPE=text/html:
X-ACCESS:1
X-HITS:279
X-URL:
X-COLOR:EABA28
END:VEVENT
BEGIN:VEVENT
DTSTART;TZID=Europe/Madrid:20191108T190000
DTEND;TZID=Europe/Madrid:20191108T213000
UID:8F6DB76D-4162-4BD7-8E4B-E9098794D266
SUMMARY:Assaig Banda Jove
DTSTAMP:20190916T105347Z
DESCRIPTION:
X-ALT-DESC;FMTTYPE=text/html:
X-ACCESS:1
X-HITS:273
X-URL:
X-COLOR:EABA28
END:VEVENT
BEGIN:VEVENT
DTSTART;TZID=Europe/Madrid:20191115T190000
DTEND;TZID=Europe/Madrid:20191115T203000
UID:C953A5D8-94DF-4C88-AE07-99464339F6C3
SUMMARY:Assaig Banda Jove
DTSTAMP:20190916T105412Z
DESCRIPTION:
X-ALT-DESC;FMTTYPE=text/html:
X-ACCESS:1
X-HITS:312
X-URL:
X-COLOR:EABA28
END:VEVENT
BEGIN:VEVENT
DTSTART;TZID=Europe/Madrid:20191122T190000
DTEND;TZID=Europe/Madrid:20191122T213000
UID:31A362B2-5299-4E36-BBE9-20210532064D
SUMMARY:Assaig Banda Jove
DTSTAMP:20190916T105440Z
DESCRIPTION:
X-ALT-DESC;FMTTYPE=text/html:
X-ACCESS:1
X-HITS:273
X-URL:
X-COLOR:EABA28
END:VEVENT
END:VCALENDAR